BEGIN:VCALENDAR
VERSION:2.0
PRODID:-//Tukios.com/
BEGIN:VEVENT
UID:135563d9-e39f-414a-a2f3-876f0641f6b5@www.henryfuneralhome.org
DTSTAMP:20260421T232446Z
DTSTART:20260427T170000Z
DTEND:20260427T180000Z
SUMMARY:Funeral Service
DESCRIPTION:
URL:https://www.henryfuneralhome.org/obituaries/richard-a-smith
LOCATION: 703 Capital Ave SW  Battle Creek MI 49015
GEO:42.3016386;-85.1988762
END:VEVENT
END:VCALENDAR