BEGIN:VCALENDAR
VERSION:2.0
PRODID:-//Tukios.com/
BEGIN:VEVENT
UID:3bb8ea01-a5a6-4960-aa88-969fe4017f7a@www.henryfuneralhome.org
DTSTAMP:20260421T232330Z
DTSTART:20260427T160000Z
DTEND:20260427T170000Z
SUMMARY:Visitation
DESCRIPTION:
URL:https://www.henryfuneralhome.org/obituaries/richard-a-smith
LOCATION: 703 Capital Ave SW  Battle Creek MI 49015
GEO:42.3016386;-85.1988762
END:VEVENT
END:VCALENDAR