BEGIN:VCALENDAR
VERSION:2.0
PRODID:-//Tukios.com/
BEGIN:VEVENT
UID:38d9b398-2785-4c6a-b721-24b847666bdd@www.henryfuneralhome.org
DTSTAMP:20260422T153902Z
DTSTART:20260508T140000Z
DTEND:20260508T150000Z
SUMMARY:Visitation
DESCRIPTION:
URL:https://www.henryfuneralhome.org/obituaries/sandra-allwardt
LOCATION:Richard A. Henry Funeral Home 703 Capital Ave SW  Battle Creek 
	MI 49015
GEO:42.3016386;-85.1988762
END:VEVENT
END:VCALENDAR