BEGIN:VCALENDAR
VERSION:2.0
PRODID:-//Tukios.com/
BEGIN:VEVENT
UID:d9addf13-0576-47d7-a968-f7b75e7e4ad8@www.henryfuneralhome.org
DTSTAMP:20260422T153610Z
DTSTART:20260508T150000Z
DTEND:20260508T160000Z
SUMMARY:Celebration of Life
DESCRIPTION:
URL:https://www.henryfuneralhome.org/obituaries/sandra-allwardt
LOCATION:Richard A. Henry Funeral Home 703 Capital Ave SW  Battle Creek 
	MI 49015
GEO:42.3016386;-85.1988762
END:VEVENT
END:VCALENDAR