BEGIN:VCALENDAR
VERSION:2.0
PRODID:-//Tukios.com/
BEGIN:VEVENT
UID:bf20af82-fd19-464d-9b54-32b4c9384d2c@www.henryfuneralhome.org
DTSTAMP:20260425T234730Z
DTSTART:20260428T140000Z
DTEND:20260428T150000Z
SUMMARY:Visitation
DESCRIPTION:
URL:https://www.henryfuneralhome.org/obituaries/sandra-prince
LOCATION: 703 Capital Ave SW  Battle Creek MI 49015
GEO:42.3016386;-85.1988762
END:VEVENT
END:VCALENDAR