BEGIN:VCALENDAR
VERSION:2.0
PRODID:-//Tukios.com/
BEGIN:VEVENT
UID:b4b65148-1ccd-43f0-8934-1bdb00fe882e@www.henryfuneralhome.org
DTSTAMP:20260425T234339Z
DTSTART:20260428T150000Z
DTEND:20260428T160000Z
SUMMARY:Funeral Service
DESCRIPTION:
URL:https://www.henryfuneralhome.org/obituaries/sandra-prince
LOCATION: 703 Capital Ave SW  Battle Creek MI 49015
GEO:42.3016386;-85.1988762
END:VEVENT
END:VCALENDAR